BEGIN:VCALENDAR
VERSION:2.0
PRODID:-//PCA Zone 9 - ECPv6.7.1//NONSGML v1.0//EN
CALSCALE:GREGORIAN
METHOD:PUBLISH
X-WR-CALNAME:PCA Zone 9
X-ORIGINAL-URL:https://zone9.pca.org
X-WR-CALDESC:Events for PCA Zone 9
REFRESH-INTERVAL;VALUE=DURATION:PT1H
X-Robots-Tag:noindex
X-PUBLISHED-TTL:PT1H
BEGIN:VTIMEZONE
TZID:UTC
BEGIN:STANDARD
TZOFFSETFROM:+0000
TZOFFSETTO:+0000
TZNAME:UTC
DTSTART:20180101T000000
END:STANDARD
END:VTIMEZONE
BEGIN:VEVENT
DTSTART;VALUE=DATE:20190403
DTEND;VALUE=DATE:20190407
DTSTAMP:20260420T105004
CREATED:20181205T030745Z
LAST-MODIFIED:20181205T030745Z
UID:844-1554249600-1554595199@zone9.pca.org
SUMMARY:Treffen Santa Barbara
DESCRIPTION:Treffen North America is Porsche Club of America’s newest national event\, featuring three days of non-competitive touring\, creative dining events and the opportunity to explore exciting destinations while staying at some of the finest resorts North America. Translated from German\, Treffen means “to meet\,” and you’re sure to meet new people and make new friends. Treffen and Porsche Parade destinations are selected to offer annually a national PCA activity within driving distance of the membership. \nWorking in partnership with local regions\, PCA’s Treffen team negotiates and holds all contracts; develops\, operates and maintains the website; promotes the event\, arranges sponsorships\, orders collateral materials\, and handles registration. Under the Treffen model\, the regions are left to do what they know best: find the best driving roads\, local attractions\, and lead the drives to those venues.
URL:https://zone9.pca.org/event/treffen-santa-barbara/
ATTACH;FMTTYPE=image/png:https://zone9.pca.org/wp-content/uploads/2018/01/logo.png
END:VEVENT
BEGIN:VEVENT
DTSTART;VALUE=DATE:20180927
DTEND;VALUE=DATE:20181001
DTSTAMP:20260420T105004
CREATED:20180227T233933Z
LAST-MODIFIED:20180227T233933Z
UID:506-1538006400-1538351999@zone9.pca.org
SUMMARY:Rennsport Reunion VI
DESCRIPTION:Porsche Rennsport Reunion is the world’s largest gathering of vintage and recent Porsche race cars\, as well as those who have designed\, engineered\, and driven them to victory in the world’s most famous sports car races. Hosted by Porsche Cars North America\, Rennsport Reunion VI will again feature the widest variety of historic racing Porsche competition models in the company’s 70-year history. For followers on Social Media\, #PorscheRennsport has been designated for photos\, video\, and social media content. Fans and enthusiasts are welcome to use the updated hashtag for Rennsport Reunion related topics. This event will offer on-track competition for vintage racers\, a Concours d’Elegance\, access to Porsche driver legends\, autograph sessions\, and many other special activities. Enhancing the bustling paddock will be an expansive Porsche corral with more than 1\,400 cars organized by the Porsche Club of America; numerous vendors selling automobile-related memorabilia; and a Biergarten with authentic German food and refreshments.
URL:https://zone9.pca.org/event/rennsport-reunion-vi/
LOCATION:Salinas\, CA\, Monterey Salinas Hwy 1021\, Salinas\, CA\, 93908\, United States
ATTACH;FMTTYPE=image/jpeg:https://zone9.pca.org/wp-content/uploads/2018/02/rennsport_small.jpg
END:VEVENT
BEGIN:VEVENT
DTSTART;VALUE=DATE:20180914
DTEND;VALUE=DATE:20180917
DTSTAMP:20260420T105004
CREATED:20180323T024608Z
LAST-MODIFIED:20180323T025127Z
UID:534-1536883200-1537142399@zone9.pca.org
SUMMARY:PCA Club Race- Rocky Mountain Region
DESCRIPTION:Join us for an exciting PCA Club Race Event at High Plains Raceway in Colorado. The Rocky Mountain Thunder Club Race takes place the weekend of September 14-16\, 2018. This year’s event features a special 6 hour endure as well as lots of multi-class sprint races. \n \n  \n 
URL:https://zone9.pca.org/event/pca-club-race-rocky-mountain-region/
LOCATION:High Plains Raceway\, US36\, Deer Trail\, CO\, 84074\, United States
ATTACH;FMTTYPE=image/png:https://zone9.pca.org/wp-content/uploads/2018/03/Thunder-RMR.png
END:VEVENT
BEGIN:VEVENT
DTSTART;VALUE=DATE:20180912
DTEND;VALUE=DATE:20180916
DTSTAMP:20260420T105004
CREATED:20180116T003731Z
LAST-MODIFIED:20180206T061139Z
UID:400-1536710400-1537055999@zone9.pca.org
SUMMARY:Treffen Banff
DESCRIPTION:Treffen North America is Porsche Club of America’s newest national event\, featuring three days of non-competitive touring\, creative dining events and the opportunity to explore exciting destinations while staying at some of the finest resorts North America. Translated from German\, Treffen means “to meet\,” and you’re sure to meet new people and make new friends. Treffen and Porsche Parade destinations are selected to offer annually a national PCA activity within driving distance of the membership. \nWorking in partnership with local regions\, PCA’s Treffen team negotiates and holds all contracts; develops\, operates and maintains the website; promotes the event\, arranges sponsorships\, orders collateral materials\, and handles registration. Under the Treffen model\, the regions are left to do what they know best: find the best driving roads\, local attractions\, and lead the drives to those venues.
URL:https://zone9.pca.org/event/treffen-banff/
LOCATION:Fairmont Banff Springs Resort\, Banff\, AB\, Canada
ATTACH;FMTTYPE=image/png:https://zone9.pca.org/wp-content/uploads/2018/01/logo.png
END:VEVENT
BEGIN:VEVENT
DTSTART;VALUE=DATE:20180708
DTEND;VALUE=DATE:20180715
DTSTAMP:20260420T105004
CREATED:20180114T003413Z
LAST-MODIFIED:20180321T201735Z
UID:242-1531008000-1531612799@zone9.pca.org
SUMMARY:83rd Porsche Parade
DESCRIPTION:The 63rd Annual Porsche Parade\n\n\n\n\n\n\n\n\nJuly 8 – 14\, 2018\nLake of the Ozarks at Tan-Tar-A Resort\nSpecial Notice 3/19/2018:\nPhase 1 Registration (Housing) will be suspended March 20 – April 1 in preparation for Phase 2 Registration (Banquets/Events) opening April 2 at 12 Noon EDT.\n\nDue to the overwhelming response on the first day of Registration there is limited room availability at the Tan Tar A Resort currently. Lake of the Ozarks is a vibrant vacation destination with a wide variety of housing options for Parade week. See the Accommodations page for more info. \n\nAccommodation Descriptions \n\n  \nPhase 2 Registration (Banquets/Events) opens for PCA members on\nMonday\, April 02\, 2018
URL:https://zone9.pca.org/event/83rd-porsche-parade/
LOCATION:Tan-Tar-A Resort\, Lake of the Ozarks\, 494 ⛉ Tan Tara drive\, Osage Beach\, MO\, 65065\, United States
ATTACH;FMTTYPE=image/png:https://zone9.pca.org/wp-content/uploads/2018/01/PCA_PARADE_2018_Logo_180_178.png
END:VEVENT
BEGIN:VEVENT
DTSTART;VALUE=DATE:20180504
DTEND;VALUE=DATE:20180507
DTSTAMP:20260420T105004
CREATED:20180323T022323Z
LAST-MODIFIED:20180323T025347Z
UID:525-1525392000-1525651199@zone9.pca.org
SUMMARY:PCA Club Race- Intermountain Region
DESCRIPTION:Zone 9’s first PCA Club Race of the year\, is part of the PCA Club Racing West Coast Series. This year’s race weekend is held in conjunction with the Pirelli GT3 Cup Trophy Race Series. The combination of these two events promises to make for an exciting weekend.
URL:https://zone9.pca.org/event/pca-club-races-in-zone-9/
LOCATION:Utah Motorsports Campus\, 512 Sheep Lane\, Tooele\, UT\, 84074\, United States
ATTACH;FMTTYPE=image/jpeg:https://zone9.pca.org/wp-content/uploads/2018/03/2018-WCS-Website-1-1.jpg
END:VEVENT
BEGIN:VEVENT
DTSTART;VALUE=DATE:20180425
DTEND;VALUE=DATE:20180429
DTSTAMP:20260420T105004
CREATED:20180116T003354Z
LAST-MODIFIED:20180206T061020Z
UID:395-1524614400-1524959999@zone9.pca.org
SUMMARY:Treffen Tamaya
DESCRIPTION:Treffen North America is Porsche Club of America’s newest national event\, featuring three days of non-competitive touring\, creative dining events and the opportunity to explore exciting destinations while staying at some of the finest resorts North America. Translated from German\, Treffen means “to meet\,” and you’re sure to meet new people and make new friends. Treffen and Porsche Parade destinations are selected to offer annually a national PCA activity within driving distance of the membership. \nWorking in partnership with local regions\, PCA’s Treffen team negotiates and holds all contracts; develops\, operates and maintains the website; promotes the event\, arranges sponsorships\, orders collateral materials\, and handles registration. Under the Treffen model\, the regions are left to do what they know best: find the best driving roads\, local attractions\, and lead the drives to those venues.
URL:https://zone9.pca.org/event/395/
LOCATION:Hyatt Regency Tamaya Resort\, Santa Ana Pueblo\, New Mexico
ATTACH;FMTTYPE=image/png:https://zone9.pca.org/wp-content/uploads/2018/01/logo.png
END:VEVENT
BEGIN:VEVENT
DTSTART;TZID=UTC:20180408T080000
DTEND;TZID=UTC:20180408T150000
DTSTAMP:20260420T105004
CREATED:20180323T042829Z
LAST-MODIFIED:20180323T042829Z
UID:549-1523174400-1523199600@zone9.pca.org
SUMMARY:Intermountain Region Autocross
DESCRIPTION:Maverik Center Parking Lot\, West Valley City\, Utah \n8am set up \n9am registration \n10am- 3pm run groups \nNew members free for first time running in your own Porsche \nPCA members- $30 for the day \nNon-PCA members- $35 for the day \nTech forms can be found at www.irpca.org
URL:https://zone9.pca.org/event/intermountain-region-autocross/
END:VEVENT
BEGIN:VEVENT
DTSTART;TZID=UTC:20180331T090000
DTEND;TZID=UTC:20180331T110000
DTSTAMP:20260420T105004
CREATED:20180323T042320Z
LAST-MODIFIED:20180323T042320Z
UID:545-1522486800-1522494000@zone9.pca.org
SUMMARY:Intermountain Region Cars and Coffee
DESCRIPTION:Seats are limited – so register early!  Click here or the image above to get started.\nJoin us for a special Cars & Coffee event – learn about the motorsports events that the IRPCA puts on throughout the year: \n\nAutocross\nHigh Performance Driving Events\nTime Trials\nClub Racing\n\nThe Porcupine Pub & Grille has generously donated space at their University location\, as well as a deeply discounted breakfast!\nThis event is open for motorsports rookies and veterans alike – if you haven’t driven with us before\, this is the place to start! \n\n9-9:30am   –  Social Time & Coffee\n9:30-10:30 –  Breakfast and Presentations\n10:30-11    –  Q&A\n\nThe Address:\nPorcupine Pub & Grille – University\n258 S 1300 E\nSalt Lake City\, UT 84102
URL:https://zone9.pca.org/event/intermountain-region-cars-and-coffee/
END:VEVENT
BEGIN:VEVENT
DTSTART;TZID=UTC:20180303T080000
DTEND;TZID=UTC:20180303T170000
DTSTAMP:20260420T105004
CREATED:20180206T060256Z
LAST-MODIFIED:20180206T060344Z
UID:494-1520064000-1520096400@zone9.pca.org
SUMMARY:Zone 9 Region President's meeting- El Paso\, Texas (by invitation)
DESCRIPTION:
URL:https://zone9.pca.org/event/zone-9-region-presidents-meeting-el-paso-texas-by-invitation/
END:VEVENT
BEGIN:VEVENT
DTSTART;TZID=UTC:20180224T093000
DTEND;TZID=UTC:20180224T110000
DTSTAMP:20260420T105004
CREATED:20180204T041340Z
LAST-MODIFIED:20180206T055844Z
UID:479-1519464600-1519470000@zone9.pca.org
SUMMARY:Cars and Coffee- Salt Lake Community College
DESCRIPTION:Find detailed information at www.irpca.org
URL:https://zone9.pca.org/event/cars-and-coffee-salt-lake-community-college/
END:VEVENT
END:VCALENDAR